BEGIN:VCALENDAR
VERSION:2.0
PRODID:-//Cancer Support Center - ECPv6.15.20//NONSGML v1.0//EN
CALSCALE:GREGORIAN
METHOD:PUBLISH
X-WR-CALNAME:Cancer Support Center
X-ORIGINAL-URL:https://cancersupportcenter.org
X-WR-CALDESC:Events for Cancer Support Center
REFRESH-INTERVAL;VALUE=DURATION:PT1H
X-Robots-Tag:noindex
X-PUBLISHED-TTL:PT1H
BEGIN:VTIMEZONE
TZID:America/Chicago
BEGIN:DAYLIGHT
TZOFFSETFROM:-0600
TZOFFSETTO:-0500
TZNAME:CDT
DTSTART:20250309T080000
END:DAYLIGHT
BEGIN:STANDARD
TZOFFSETFROM:-0500
TZOFFSETTO:-0600
TZNAME:CST
DTSTART:20251102T070000
END:STANDARD
BEGIN:DAYLIGHT
TZOFFSETFROM:-0600
TZOFFSETTO:-0500
TZNAME:CDT
DTSTART:20260308T080000
END:DAYLIGHT
BEGIN:STANDARD
TZOFFSETFROM:-0500
TZOFFSETTO:-0600
TZNAME:CST
DTSTART:20261101T070000
END:STANDARD
BEGIN:DAYLIGHT
TZOFFSETFROM:-0600
TZOFFSETTO:-0500
TZNAME:CDT
DTSTART:20270314T080000
END:DAYLIGHT
BEGIN:STANDARD
TZOFFSETFROM:-0500
TZOFFSETTO:-0600
TZNAME:CST
DTSTART:20271107T070000
END:STANDARD
END:VTIMEZONE
BEGIN:VEVENT
DTSTART;TZID=America/Chicago:20260415T090000
DTEND;TZID=America/Chicago:20260415T100000
DTSTAMP:20260421T034240
CREATED:20260318T182753Z
LAST-MODIFIED:20260402T192823Z
UID:10002450-1776243600-1776247200@cancersupportcenter.org
SUMMARY:Get Moving\, Get Fit (Mokena)
DESCRIPTION:This fun group fitness class will focus on gentle conditioning\, flexibility and balance by moving to upbeat music.  Workouts will focus on the whole body\, and all levels of fitness are welcome. The first 45 minutes will consist of light exercise followed by 15 minutes of rest/hydration. Please call 708.478.3529 to reserve your spot. \nMeeting Registration – Zoom
URL:https://cancersupportcenter.org/event/get-moving-get-fit-mokena-3/2026-04-15/
LOCATION:CSC – Mokena\, 19645 S. LaGrange Road\, Mokena\, IL\, 60448\, United States
CATEGORIES:Fitness & Physical Wellness
END:VEVENT
BEGIN:VEVENT
DTSTART;TZID=America/Chicago:20260415T120000
DTEND;TZID=America/Chicago:20260415T130000
DTSTAMP:20260421T034240
CREATED:20260318T182858Z
LAST-MODIFIED:20260407T145402Z
UID:10000113-1776254400-1776258000@cancersupportcenter.org
SUMMARY:Gynecological Cancer Networking Group (VIRTUAL)
DESCRIPTION:This is a group for patients with any type of gynecological cancer\, regardless of stage. Networking groups provide a space for patients to talk with other patients facing a similar diagnosis. Potential benefits include receiving support from other patients and feeling a sense of community. Learning from other patients can also provide an opportunity to find new resources and learn new coping skills. Click here to register on Zoom:\nhttps://us02web.zoom.us/meeting/register/v5cpceihrTktMCb10A7PLyge0FKQvIkuVw
URL:https://cancersupportcenter.org/event/gynecological-cancer-networking-group-virtual/
LOCATION:Virtual
CATEGORIES:Education & Networking
END:VEVENT
BEGIN:VEVENT
DTSTART;TZID=America/Chicago:20260415T123000
DTEND;TZID=America/Chicago:20260415T140000
DTSTAMP:20260421T034240
CREATED:20260318T182803Z
LAST-MODIFIED:20260407T191405Z
UID:10002830-1776256200-1776261600@cancersupportcenter.org
SUMMARY:Open Art Studio (Homewood)
DESCRIPTION:Open Studio is a time to come together and get creative! Participants can utilize this time to connect with others and work on any art they choose. This group is now being held in-person only for the spring newsletter. If you would like to attend in person\, please call 708-798-9171 for more information.
URL:https://cancersupportcenter.org/event/open-art-studio-homewood-4/2026-04-15/
LOCATION:CSC – Homewood\, 2028 Elm Road\, Homewood\, IL\, 60430\, United States
CATEGORIES:Counseling & Stress Management
END:VEVENT
BEGIN:VEVENT
DTSTART;TZID=America/Chicago:20260415T140000
DTEND;TZID=America/Chicago:20260415T150000
DTSTAMP:20260421T034240
CREATED:20260318T182800Z
LAST-MODIFIED:20260407T191251Z
UID:10003090-1776261600-1776265200@cancersupportcenter.org
SUMMARY:Knit & Crochet Group
DESCRIPTION:
URL:https://cancersupportcenter.org/event/knit-crochet-group-4/2026-04-15/
LOCATION:CSC – Mokena\, 19645 S. LaGrange Road\, Mokena\, IL\, 60448\, United States
CATEGORIES:Counseling & Stress Management
END:VEVENT
BEGIN:VEVENT
DTSTART;TZID=America/Chicago:20260415T143000
DTEND;TZID=America/Chicago:20260415T153000
DTSTAMP:20260421T034240
CREATED:20260318T182804Z
LAST-MODIFIED:20260407T191154Z
UID:10003350-1776263400-1776267000@cancersupportcenter.org
SUMMARY:Yoga for Healthy Movement (Homewood)
DESCRIPTION:Yoga for Healthy Movement is designed to reduce stress and address the physical side-effects of cancer. Classes consist of breath work\, gentle stretches\, seated and standing poses using the chair or wall for assistance\, relaxation\, and meditation. Call 708-798-9171 to register for this in-person program. \n 
URL:https://cancersupportcenter.org/event/yoga-for-healthy-movement-homewood-5/2026-04-15/
LOCATION:CSC – Homewood\, 2028 Elm Road\, Homewood\, IL\, 60430\, United States
CATEGORIES:Fitness & Physical Wellness
END:VEVENT
BEGIN:VEVENT
DTSTART;TZID=America/Chicago:20260415T150000
DTEND;TZID=America/Chicago:20260415T160000
DTSTAMP:20260421T034240
CREATED:20260318T182904Z
LAST-MODIFIED:20260407T145529Z
UID:10000116-1776265200-1776268800@cancersupportcenter.org
SUMMARY:Journeying Inward: Deep Relaxation for Well-Being & Stress (VIRTUAL)
DESCRIPTION:Join us for this exploration of body\, mind and breath as we gently move into a peaceful space in which profound healing and renewal can occur. This experience will combine gentle movement\, relaxing breathwork and guided imagery. We will conclude with an opportunity for reflection and optional sharing.Sit in a comfy chair or rest on the floor on a yoga mat or sleeping bag; have a blanket\, pillow\, bolster and/or eye pillow close by to create comfort. Choose a space that is quiet and private; turn off TV\, radio and phone ringer. Click here to register on Zoom:\nhttps://us02web.zoom.us/meeting/register/tZcqcO2uqjwjG9y0h5YTb1qAl3QHbLcrOh4m
URL:https://cancersupportcenter.org/event/journeying-inward-deep-relaxation-for-well-being-stress-virtual-2/
LOCATION:Virtual
CATEGORIES:Counseling & Stress Management
END:VEVENT
BEGIN:VEVENT
DTSTART;TZID=America/Chicago:20260415T180000
DTEND;TZID=America/Chicago:20260415T200000
DTSTAMP:20260421T034240
CREATED:20260318T182911Z
LAST-MODIFIED:20260407T145718Z
UID:10000119-1776276000-1776283200@cancersupportcenter.org
SUMMARY:Sista's of Hope Support Group (Virtual)
DESCRIPTION:The Sista’s of Hope Support Group is an African American cancer survivor’s organization\, founded in 2017. This group provides support\, love and sisterhood as well as breast health education and advocacy. \nZoom link: https://us02web.zoom.us/meeting/register/tZAtcO-urz8pGNSfrFMr0XTqnNDrpJreJyrK
URL:https://cancersupportcenter.org/event/sistas-of-hope-support-group-virtual-2/
LOCATION:Virtual
CATEGORIES:Education & Networking
END:VEVENT
END:VCALENDAR