BEGIN:VCALENDAR
VERSION:2.0
PRODID:-//Cancer Support Center - ECPv6.15.20//NONSGML v1.0//EN
CALSCALE:GREGORIAN
METHOD:PUBLISH
X-WR-CALNAME:Cancer Support Center
X-ORIGINAL-URL:https://cancersupportcenter.org
X-WR-CALDESC:Events for Cancer Support Center
REFRESH-INTERVAL;VALUE=DURATION:PT1H
X-Robots-Tag:noindex
X-PUBLISHED-TTL:PT1H
BEGIN:VTIMEZONE
TZID:America/Chicago
BEGIN:DAYLIGHT
TZOFFSETFROM:-0600
TZOFFSETTO:-0500
TZNAME:CDT
DTSTART:20250309T080000
END:DAYLIGHT
BEGIN:STANDARD
TZOFFSETFROM:-0500
TZOFFSETTO:-0600
TZNAME:CST
DTSTART:20251102T070000
END:STANDARD
BEGIN:DAYLIGHT
TZOFFSETFROM:-0600
TZOFFSETTO:-0500
TZNAME:CDT
DTSTART:20260308T080000
END:DAYLIGHT
BEGIN:STANDARD
TZOFFSETFROM:-0500
TZOFFSETTO:-0600
TZNAME:CST
DTSTART:20261101T070000
END:STANDARD
BEGIN:DAYLIGHT
TZOFFSETFROM:-0600
TZOFFSETTO:-0500
TZNAME:CDT
DTSTART:20270314T080000
END:DAYLIGHT
BEGIN:STANDARD
TZOFFSETFROM:-0500
TZOFFSETTO:-0600
TZNAME:CST
DTSTART:20271107T070000
END:STANDARD
END:VTIMEZONE
BEGIN:VEVENT
DTSTART;TZID=America/Chicago:20260416T000000
DTEND;TZID=America/Chicago:20260416T235959
DTSTAMP:20260421T052914
CREATED:20260318T182823Z
LAST-MODIFIED:20260407T190934Z
UID:10003728-1776297600-1776383999@cancersupportcenter.org
SUMMARY:Art Journaling (VIRTUAL)
DESCRIPTION:In this group\, participants will be invited to create thoughtful and reflective art in a journal as a unique way to process their cancer experience. All individuals affected by cancer are welcome. Registration is required. Email Kelly at kfriel@cancersupportcenter.org to receive your art journaling prompt each Thursday in your inbox.
URL:https://cancersupportcenter.org/event/art-journaling-virtual-4/2026-04-16/
LOCATION:Virtual
CATEGORIES:Counseling & Stress Management
END:VEVENT
BEGIN:VEVENT
DTSTART;TZID=America/Chicago:20260416T123000
DTEND;TZID=America/Chicago:20260416T133000
DTSTAMP:20260421T052914
CREATED:20260420T184926Z
LAST-MODIFIED:20260420T184926Z
UID:10005515-1776342600-1776346200@cancersupportcenter.org
SUMMARY:Men's Networking Group (VIRTUAL)
DESCRIPTION:Develop a sense of community by networking with other men who have been diagnosed with cancer. This group is open to men with any type or stage of cancer (in treatment or post-treatment). Click this link to register:\nhttps://us02web.zoom.us/meeting/register/tZwpceCgpj4uZzrF4k_xeRK38QHoeFNpEg 
URL:https://cancersupportcenter.org/event/mens-cancer-networking-group/2026-04-16/
LOCATION:Virtual
CATEGORIES:Education & Networking,Virtual
END:VEVENT
BEGIN:VEVENT
DTSTART;TZID=America/Chicago:20260416T143000
DTEND;TZID=America/Chicago:20260416T160000
DTSTAMP:20260421T052914
CREATED:20260318T182919Z
LAST-MODIFIED:20260407T145830Z
UID:10000122-1776349800-1776355200@cancersupportcenter.org
SUMMARY:Marcela’s Kitchen to Yours: Delicious & Easy Ways to Cook with Edible Flowers (Homewood)
DESCRIPTION:There are easy\, wildly fun\, and ultra-delicious ways to use edible flowers. Edible flowers instantly elevate any food or beverage and add loads of color. Marcela will demonstrate to us just how fun working with edible flowers can be. Presented by Marcela Puga\, Health Coach & Fitness Instructor.
URL:https://cancersupportcenter.org/event/marcelas-kitchen-to-yours-delicious-easy-ways-to-cook-with-edible-flowers-homewood/
LOCATION:CSC – Homewood\, 2028 Elm Road\, Homewood\, IL\, 60430\, United States
CATEGORIES:Nutrition
END:VEVENT
BEGIN:VEVENT
DTSTART;TZID=America/Chicago:20260416T160000
DTEND;TZID=America/Chicago:20260416T170000
DTSTAMP:20260421T052914
CREATED:20260318T182926Z
LAST-MODIFIED:20260407T150130Z
UID:10000125-1776355200-1776358800@cancersupportcenter.org
SUMMARY:Adjusting to Life After Loss
DESCRIPTION:  \nCoping with the loss of a loved one can be challenging\, particularly when individual factors and unrealistic expectations intensify the grieving process. Additionally\, support from others often diminishes over time. This three‑week workshop addresses key aspects of grief through a different focus each week. Week one explores common myths and expectations surrounding grief\, week two examines factors that influence the grieving process\, and week three focuses on building and maintaining personal support. Participants may attend all three sessions or select the topics most relevant to them. \n  \nhttps://us02web.zoom.us/meeting/register/2y0lo1mEQF2dN8LbG8Jk9g
URL:https://cancersupportcenter.org/event/adjusting-to-life-after-loss-2/2026-04-16/
LOCATION:Virtual
CATEGORIES:Education & Networking
END:VEVENT
BEGIN:VEVENT
DTSTART;TZID=America/Chicago:20260416T170000
DTEND;TZID=America/Chicago:20260416T180000
DTSTAMP:20260421T052914
CREATED:20260318T182921Z
LAST-MODIFIED:20260407T150433Z
UID:10000123-1776358800-1776362400@cancersupportcenter.org
SUMMARY:Blood Cancers Networking Group
DESCRIPTION:For anyone with a Blood Cancer diagnosis that is not Multiple Myeloma. To register click here
URL:https://cancersupportcenter.org/event/blood-cancers-networking-group-2/
LOCATION:https://cancersupportcenter.org/event/blood-cancers-networking-group-2/
CATEGORIES:Education & Networking
END:VEVENT
END:VCALENDAR