BEGIN:VCALENDAR
VERSION:2.0
PRODID:-//Cancer Support Center - ECPv6.15.20//NONSGML v1.0//EN
CALSCALE:GREGORIAN
METHOD:PUBLISH
X-ORIGINAL-URL:https://cancersupportcenter.org
X-WR-CALDESC:Events for Cancer Support Center
REFRESH-INTERVAL;VALUE=DURATION:PT1H
X-Robots-Tag:noindex
X-PUBLISHED-TTL:PT1H
BEGIN:VTIMEZONE
TZID:America/Chicago
BEGIN:DAYLIGHT
TZOFFSETFROM:-0600
TZOFFSETTO:-0500
TZNAME:CDT
DTSTART:20250309T080000
END:DAYLIGHT
BEGIN:STANDARD
TZOFFSETFROM:-0500
TZOFFSETTO:-0600
TZNAME:CST
DTSTART:20251102T070000
END:STANDARD
BEGIN:DAYLIGHT
TZOFFSETFROM:-0600
TZOFFSETTO:-0500
TZNAME:CDT
DTSTART:20260308T080000
END:DAYLIGHT
BEGIN:STANDARD
TZOFFSETFROM:-0500
TZOFFSETTO:-0600
TZNAME:CST
DTSTART:20261101T070000
END:STANDARD
BEGIN:DAYLIGHT
TZOFFSETFROM:-0600
TZOFFSETTO:-0500
TZNAME:CDT
DTSTART:20270314T080000
END:DAYLIGHT
BEGIN:STANDARD
TZOFFSETFROM:-0500
TZOFFSETTO:-0600
TZNAME:CST
DTSTART:20271107T070000
END:STANDARD
END:VTIMEZONE
BEGIN:VEVENT
DTSTART;TZID=America/Chicago:20260513T090000
DTEND;TZID=America/Chicago:20260513T100000
DTSTAMP:20260421T090545
CREATED:20260318T182753Z
LAST-MODIFIED:20260402T192823Z
UID:10002454-1778662800-1778666400@cancersupportcenter.org
SUMMARY:Get Moving\, Get Fit (Mokena)
DESCRIPTION:This fun group fitness class will focus on gentle conditioning\, flexibility and balance by moving to upbeat music.  Workouts will focus on the whole body\, and all levels of fitness are welcome. The first 45 minutes will consist of light exercise followed by 15 minutes of rest/hydration. Please call 708.478.3529 to reserve your spot. \nMeeting Registration – Zoom
URL:https://cancersupportcenter.org/event/get-moving-get-fit-mokena-3/2026-05-13/
LOCATION:CSC – Mokena\, 19645 S. LaGrange Road\, Mokena\, IL\, 60448\, United States
CATEGORIES:Fitness & Physical Wellness
END:VEVENT
BEGIN:VEVENT
DTSTART;TZID=America/Chicago:20260513T093000
DTEND;TZID=America/Chicago:20260513T103000
DTSTAMP:20260421T090545
CREATED:20260318T183248Z
LAST-MODIFIED:20260407T180837Z
UID:10000208-1778664600-1778668200@cancersupportcenter.org
SUMMARY:Tai Chi and Qigong
DESCRIPTION:Tai Chi and Qigong are mind-body practices involving slow movements\, deep breathing\, and meditation. They offer numerous health benefits\, including improved balance\, stress reduction\, pain relief\, and immune system boost. These practices are safe for most people and can be a valuable addition to a healthy lifestyle. Presented by Bill Gray\, Tai Chi & Qigong Instructor.
URL:https://cancersupportcenter.org/event/tai-chi-and-qigong-2/
LOCATION:CSC – Homewood\, 2028 Elm Road\, Homewood\, IL\, 60430\, United States
CATEGORIES:Fitness & Physical Wellness
END:VEVENT
BEGIN:VEVENT
DTSTART;TZID=America/Chicago:20260513T103000
DTEND;TZID=America/Chicago:20260513T113000
DTSTAMP:20260421T090545
CREATED:20260318T183251Z
LAST-MODIFIED:20260417T033350Z
UID:10000210-1778668200-1778671800@cancersupportcenter.org
SUMMARY:Colorectal Cancer Networking Group (VIRTUAL)
DESCRIPTION:This a group for patients with any type of colorectal cancer at any stage. Participants are welcome to invite a caregiver to attend with them. Networking groups provide a space for patients to talk with other patients facing a similar diagnosis. Potential benefits include receiving support from other patients and feeling a sense of community. Learning from other patients can also provide an opportunity to find new resources and learn new coping skills. \nClick here to register on Zoom: https://us02web.zoom.us/meeting/register/uZEvc-GprDgrEZ8Hg8poLy-xRVHWHFZ6oA
URL:https://cancersupportcenter.org/event/colorectal-cancer-networking-group-virtual-2/2026-05-13/
LOCATION:Virtual
CATEGORIES:Education & Networking,Virtual
END:VEVENT
BEGIN:VEVENT
DTSTART;TZID=America/Chicago:20260513T123000
DTEND;TZID=America/Chicago:20260513T140000
DTSTAMP:20260421T090545
CREATED:20260318T182803Z
LAST-MODIFIED:20260407T191405Z
UID:10002834-1778675400-1778680800@cancersupportcenter.org
SUMMARY:Open Art Studio (Homewood)
DESCRIPTION:Open Studio is a time to come together and get creative! Participants can utilize this time to connect with others and work on any art they choose. This group is now being held in-person only for the spring newsletter. If you would like to attend in person\, please call 708-798-9171 for more information.
URL:https://cancersupportcenter.org/event/open-art-studio-homewood-4/2026-05-13/
LOCATION:CSC – Homewood\, 2028 Elm Road\, Homewood\, IL\, 60430\, United States
CATEGORIES:Counseling & Stress Management
END:VEVENT
BEGIN:VEVENT
DTSTART;TZID=America/Chicago:20260513T123000
DTEND;TZID=America/Chicago:20260513T140000
DTSTAMP:20260421T090545
CREATED:20260318T183252Z
LAST-MODIFIED:20260417T021332Z
UID:10000211-1778675400-1778680800@cancersupportcenter.org
SUMMARY:Smoothie Clinic: Increase Your Energy & Reduce Inflammation (Mokena)
DESCRIPTION:Smoothies and Juicing are considered to be a fabulous beverage\, why? Because they are both nutrient-rich\, easy to digest\, and can help increase your intake of fruits and vegetables\, fiber\, and essential vitamins and minerals. Chris will demonstrate both strategies\, reviewing which one is healthier and what are the easy shortcuts to take when making both. \nPresented by Chris Rosandich\, MS\, Nutrition Educator.
URL:https://cancersupportcenter.org/event/smoothie-clinic-increase-your-energy-reduce-inflammation-mokena/
LOCATION:CSC – Mokena\, 19645 S. LaGrange Road\, Mokena\, IL\, 60448\, United States
CATEGORIES:Mokena,Nutrition
ATTACH;FMTTYPE=image/png:https://cancersupportcenter.org/wp-content/uploads/2026/03/Screenshot-2026-04-16-at-8.55.23-PM.png
END:VEVENT
BEGIN:VEVENT
DTSTART;TZID=America/Chicago:20260513T140000
DTEND;TZID=America/Chicago:20260513T150000
DTSTAMP:20260421T090545
CREATED:20260318T182800Z
LAST-MODIFIED:20260407T191251Z
UID:10003094-1778680800-1778684400@cancersupportcenter.org
SUMMARY:Knit & Crochet Group
DESCRIPTION:
URL:https://cancersupportcenter.org/event/knit-crochet-group-4/2026-05-13/
LOCATION:CSC – Mokena\, 19645 S. LaGrange Road\, Mokena\, IL\, 60448\, United States
CATEGORIES:Counseling & Stress Management
END:VEVENT
BEGIN:VEVENT
DTSTART;TZID=America/Chicago:20260513T143000
DTEND;TZID=America/Chicago:20260513T153000
DTSTAMP:20260421T090545
CREATED:20260318T182804Z
LAST-MODIFIED:20260407T191154Z
UID:10003354-1778682600-1778686200@cancersupportcenter.org
SUMMARY:Yoga for Healthy Movement (Homewood)
DESCRIPTION:Yoga for Healthy Movement is designed to reduce stress and address the physical side-effects of cancer. Classes consist of breath work\, gentle stretches\, seated and standing poses using the chair or wall for assistance\, relaxation\, and meditation. Call 708-798-9171 to register for this in-person program. \n 
URL:https://cancersupportcenter.org/event/yoga-for-healthy-movement-homewood-5/2026-05-13/
LOCATION:CSC – Homewood\, 2028 Elm Road\, Homewood\, IL\, 60430\, United States
CATEGORIES:Fitness & Physical Wellness
END:VEVENT
BEGIN:VEVENT
DTSTART;TZID=America/Chicago:20260513T160000
DTEND;TZID=America/Chicago:20260513T170000
DTSTAMP:20260421T090545
CREATED:20260318T183259Z
LAST-MODIFIED:20260417T034253Z
UID:10000215-1778688000-1778691600@cancersupportcenter.org
SUMMARY:Head and Neck Cancers Networking Group (Virtual)
DESCRIPTION:The final Monday of every month from 4 to 5 p.m. \nFacilitated by: Jennifer Tracy\, BSN\, RN\, OCN. Oncology Nurse Navigator\, Cancer Institute Advocate Christ Medical Center. \nZOOM LINK: Meeting Registration – Zoom
URL:https://cancersupportcenter.org/event/head-and-neck-cancers-networking-group-virtual-2/2026-05-13/
LOCATION:Virtual
CATEGORIES:Education & Networking,Virtual
END:VEVENT
BEGIN:VEVENT
DTSTART;TZID=America/Chicago:20260513T163000
DTEND;TZID=America/Chicago:20260513T180000
DTSTAMP:20260421T090545
CREATED:20260318T183302Z
LAST-MODIFIED:20260417T013224Z
UID:10000216-1778689800-1778695200@cancersupportcenter.org
SUMMARY:Sculpted Stems: Pipe Cleaner Flowers (Mokena)
DESCRIPTION:Discover how to create beautiful spring flowers using simple pipe cleaners in this fun workshop. Bring your creativity and enjoy a burst of springtime crafting. \nCall 708-478-3529 or email kfriel@cancersupportcenter.org to register.
URL:https://cancersupportcenter.org/event/sculpted-stems-pipe-cleaner-flowers-mokena/
LOCATION:CSC – Mokena\, 19645 S. LaGrange Road\, Mokena\, IL\, 60448\, United States
CATEGORIES:Counseling & Stress Management,Mokena
ATTACH;FMTTYPE=image/png:https://cancersupportcenter.org/wp-content/uploads/2026/03/Screenshot-2026-04-16-at-8.24.19-PM.png
END:VEVENT
END:VCALENDAR