BEGIN:VCALENDAR
VERSION:2.0
PRODID:-//Cancer Support Center - ECPv6.15.20//NONSGML v1.0//EN
CALSCALE:GREGORIAN
METHOD:PUBLISH
X-ORIGINAL-URL:https://cancersupportcenter.org
X-WR-CALDESC:Events for Cancer Support Center
REFRESH-INTERVAL;VALUE=DURATION:PT1H
X-Robots-Tag:noindex
X-PUBLISHED-TTL:PT1H
BEGIN:VTIMEZONE
TZID:America/Chicago
BEGIN:DAYLIGHT
TZOFFSETFROM:-0600
TZOFFSETTO:-0500
TZNAME:CDT
DTSTART:20250309T080000
END:DAYLIGHT
BEGIN:STANDARD
TZOFFSETFROM:-0500
TZOFFSETTO:-0600
TZNAME:CST
DTSTART:20251102T070000
END:STANDARD
BEGIN:DAYLIGHT
TZOFFSETFROM:-0600
TZOFFSETTO:-0500
TZNAME:CDT
DTSTART:20260308T080000
END:DAYLIGHT
BEGIN:STANDARD
TZOFFSETFROM:-0500
TZOFFSETTO:-0600
TZNAME:CST
DTSTART:20261101T070000
END:STANDARD
BEGIN:DAYLIGHT
TZOFFSETFROM:-0600
TZOFFSETTO:-0500
TZNAME:CDT
DTSTART:20270314T080000
END:DAYLIGHT
BEGIN:STANDARD
TZOFFSETFROM:-0500
TZOFFSETTO:-0600
TZNAME:CST
DTSTART:20271107T070000
END:STANDARD
END:VTIMEZONE
BEGIN:VEVENT
DTSTART;TZID=America/Chicago:20260610T090000
DTEND;TZID=America/Chicago:20260610T100000
DTSTAMP:20260421T121432
CREATED:20260318T182753Z
LAST-MODIFIED:20260402T192823Z
UID:10002458-1781082000-1781085600@cancersupportcenter.org
SUMMARY:Get Moving\, Get Fit (Mokena)
DESCRIPTION:This fun group fitness class will focus on gentle conditioning\, flexibility and balance by moving to upbeat music.  Workouts will focus on the whole body\, and all levels of fitness are welcome. The first 45 minutes will consist of light exercise followed by 15 minutes of rest/hydration. Please call 708.478.3529 to reserve your spot. \nMeeting Registration – Zoom
URL:https://cancersupportcenter.org/event/get-moving-get-fit-mokena-3/2026-06-10/
LOCATION:CSC – Mokena\, 19645 S. LaGrange Road\, Mokena\, IL\, 60448\, United States
CATEGORIES:Fitness & Physical Wellness
END:VEVENT
BEGIN:VEVENT
DTSTART;TZID=America/Chicago:20260610T100000
DTEND;TZID=America/Chicago:20260610T110000
DTSTAMP:20260421T121432
CREATED:20260318T183621Z
LAST-MODIFIED:20260407T185703Z
UID:10000307-1781085600-1781089200@cancersupportcenter.org
SUMMARY:Tai Chi and Qigong
DESCRIPTION:Tai Chi and Qigong are mind-body practices involving slow movements\, deep breathing\, and meditation. They offer numerous health benefits\, including improved balance\, stress reduction\, pain relief\, and immune system boost. These practices are safe for most people and can be a valuable addition to a healthy lifestyle. Presented by Bill Gray\, Tai Chi & Qigong Instructor.
URL:https://cancersupportcenter.org/event/tai-chi-and-qigong-3/
LOCATION:CSC – Homewood\, 2028 Elm Road\, Homewood\, IL\, 60430\, United States
CATEGORIES:Fitness & Physical Wellness
END:VEVENT
BEGIN:VEVENT
DTSTART;TZID=America/Chicago:20260610T103000
DTEND;TZID=America/Chicago:20260610T113000
DTSTAMP:20260421T121432
CREATED:20260318T183251Z
LAST-MODIFIED:20260417T033350Z
UID:10005274-1781087400-1781091000@cancersupportcenter.org
SUMMARY:Colorectal Cancer Networking Group (VIRTUAL)
DESCRIPTION:This a group for patients with any type of colorectal cancer at any stage. Participants are welcome to invite a caregiver to attend with them. Networking groups provide a space for patients to talk with other patients facing a similar diagnosis. Potential benefits include receiving support from other patients and feeling a sense of community. Learning from other patients can also provide an opportunity to find new resources and learn new coping skills. \nClick here to register on Zoom: https://us02web.zoom.us/meeting/register/uZEvc-GprDgrEZ8Hg8poLy-xRVHWHFZ6oA
URL:https://cancersupportcenter.org/event/colorectal-cancer-networking-group-virtual-2/2026-06-10/
LOCATION:Virtual
CATEGORIES:Education & Networking,Virtual
END:VEVENT
BEGIN:VEVENT
DTSTART;TZID=America/Chicago:20260610T123000
DTEND;TZID=America/Chicago:20260610T140000
DTSTAMP:20260421T121432
CREATED:20260318T182803Z
LAST-MODIFIED:20260407T191405Z
UID:10002838-1781094600-1781100000@cancersupportcenter.org
SUMMARY:Open Art Studio (Homewood)
DESCRIPTION:Open Studio is a time to come together and get creative! Participants can utilize this time to connect with others and work on any art they choose. This group is now being held in-person only for the spring newsletter. If you would like to attend in person\, please call 708-798-9171 for more information.
URL:https://cancersupportcenter.org/event/open-art-studio-homewood-4/2026-06-10/
LOCATION:CSC – Homewood\, 2028 Elm Road\, Homewood\, IL\, 60430\, United States
CATEGORIES:Counseling & Stress Management
END:VEVENT
BEGIN:VEVENT
DTSTART;TZID=America/Chicago:20260610T140000
DTEND;TZID=America/Chicago:20260610T150000
DTSTAMP:20260421T121432
CREATED:20260318T182800Z
LAST-MODIFIED:20260407T191251Z
UID:10003098-1781100000-1781103600@cancersupportcenter.org
SUMMARY:Knit & Crochet Group
DESCRIPTION:
URL:https://cancersupportcenter.org/event/knit-crochet-group-4/2026-06-10/
LOCATION:CSC – Mokena\, 19645 S. LaGrange Road\, Mokena\, IL\, 60448\, United States
CATEGORIES:Counseling & Stress Management
END:VEVENT
BEGIN:VEVENT
DTSTART;TZID=America/Chicago:20260610T143000
DTEND;TZID=America/Chicago:20260610T153000
DTSTAMP:20260421T121432
CREATED:20260318T182804Z
LAST-MODIFIED:20260407T191154Z
UID:10003358-1781101800-1781105400@cancersupportcenter.org
SUMMARY:Yoga for Healthy Movement (Homewood)
DESCRIPTION:Yoga for Healthy Movement is designed to reduce stress and address the physical side-effects of cancer. Classes consist of breath work\, gentle stretches\, seated and standing poses using the chair or wall for assistance\, relaxation\, and meditation. Call 708-798-9171 to register for this in-person program. \n 
URL:https://cancersupportcenter.org/event/yoga-for-healthy-movement-homewood-5/2026-06-10/
LOCATION:CSC – Homewood\, 2028 Elm Road\, Homewood\, IL\, 60430\, United States
CATEGORIES:Fitness & Physical Wellness
END:VEVENT
BEGIN:VEVENT
DTSTART;TZID=America/Chicago:20260610T160000
DTEND;TZID=America/Chicago:20260610T170000
DTSTAMP:20260421T121432
CREATED:20260318T183259Z
LAST-MODIFIED:20260417T034253Z
UID:10005333-1781107200-1781110800@cancersupportcenter.org
SUMMARY:Head and Neck Cancers Networking Group (Virtual)
DESCRIPTION:The final Monday of every month from 4 to 5 p.m. \nFacilitated by: Jennifer Tracy\, BSN\, RN\, OCN. Oncology Nurse Navigator\, Cancer Institute Advocate Christ Medical Center. \nZOOM LINK: Meeting Registration – Zoom
URL:https://cancersupportcenter.org/event/head-and-neck-cancers-networking-group-virtual-2/2026-06-10/
LOCATION:Virtual
CATEGORIES:Education & Networking,Virtual
END:VEVENT
END:VCALENDAR