BEGIN:VCALENDAR
VERSION:2.0
PRODID:-//Cancer Support Center - ECPv6.15.20//NONSGML v1.0//EN
CALSCALE:GREGORIAN
METHOD:PUBLISH
X-ORIGINAL-URL:https://cancersupportcenter.org
X-WR-CALDESC:Events for Cancer Support Center
REFRESH-INTERVAL;VALUE=DURATION:PT1H
X-Robots-Tag:noindex
X-PUBLISHED-TTL:PT1H
BEGIN:VTIMEZONE
TZID:America/Chicago
BEGIN:DAYLIGHT
TZOFFSETFROM:-0600
TZOFFSETTO:-0500
TZNAME:CDT
DTSTART:20250309T080000
END:DAYLIGHT
BEGIN:STANDARD
TZOFFSETFROM:-0500
TZOFFSETTO:-0600
TZNAME:CST
DTSTART:20251102T070000
END:STANDARD
BEGIN:DAYLIGHT
TZOFFSETFROM:-0600
TZOFFSETTO:-0500
TZNAME:CDT
DTSTART:20260308T080000
END:DAYLIGHT
BEGIN:STANDARD
TZOFFSETFROM:-0500
TZOFFSETTO:-0600
TZNAME:CST
DTSTART:20261101T070000
END:STANDARD
BEGIN:DAYLIGHT
TZOFFSETFROM:-0600
TZOFFSETTO:-0500
TZNAME:CDT
DTSTART:20270314T080000
END:DAYLIGHT
BEGIN:STANDARD
TZOFFSETFROM:-0500
TZOFFSETTO:-0600
TZNAME:CST
DTSTART:20271107T070000
END:STANDARD
END:VTIMEZONE
BEGIN:VEVENT
DTSTART;TZID=America/Chicago:20260512T110000
DTEND;TZID=America/Chicago:20260512T123000
DTSTAMP:20260421T103642
CREATED:20260318T183239Z
LAST-MODIFIED:20260417T021648Z
UID:10000203-1778583600-1778589000@cancersupportcenter.org
SUMMARY:Smoothie Clinic: Increase Your Energy & Reduce Inflammation (Homewood)
DESCRIPTION:Smoothies and Juicing are considered to be a fabulous beverage\, why? Because they are both nutrient-rich\, easy to digest\, and can help increase your intake of fruits and vegetables\, fiber\, and essential vitamins and minerals. Chris will demonstrate both strategies\, reviewing which one is healthier and what are the easy shortcuts to take when making both. \nPresented by Chris Rosandich\, MS\, Nutrition Educator.
URL:https://cancersupportcenter.org/event/smoothie-clinic-increase-your-energy-reduce-inflammation-homewood/
LOCATION:CSC – Homewood\, 2028 Elm Road\, Homewood\, IL\, 60430\, United States
CATEGORIES:Homewood,Nutrition
ATTACH;FMTTYPE=image/png:https://cancersupportcenter.org/wp-content/uploads/2026/03/Screenshot-2026-04-16-at-8.55.23-PM.png
END:VEVENT
BEGIN:VEVENT
DTSTART;TZID=America/Chicago:20260512T123000
DTEND;TZID=America/Chicago:20260512T134500
DTSTAMP:20260421T103642
CREATED:20260318T182843Z
LAST-MODIFIED:20260407T144924Z
UID:10004228-1778589000-1778593500@cancersupportcenter.org
SUMMARY:Unlock a Healthier You\, 2-week program (Homewood)
DESCRIPTION:  \nThis 2-week program will help you unlock a healthier you. We will discuss advanced nutrition and lifestyle strategies that can help you to feel better\, have more energy\, and feel less achy. Here are a few of the topics we will cover: \n  \n\nIntermittent fasting & having a healthy gut\n\n  \n\nProtein and collagen: why they are so important\n\n  \n\nTop 10 healthy snacks & sweet treats
URL:https://cancersupportcenter.org/event/unlock-a-healthier-you-2-week-program-homewood/2026-05-12/
LOCATION:CSC – Homewood\, 2028 Elm Road\, Homewood\, IL\, 60430\, United States
CATEGORIES:Nutrition
END:VEVENT
END:VCALENDAR