BEGIN:VCALENDAR
VERSION:2.0
PRODID:-//Cancer Support Center - ECPv6.15.20//NONSGML v1.0//EN
CALSCALE:GREGORIAN
METHOD:PUBLISH
X-ORIGINAL-URL:https://cancersupportcenter.org
X-WR-CALDESC:Events for Cancer Support Center
REFRESH-INTERVAL;VALUE=DURATION:PT1H
X-Robots-Tag:noindex
X-PUBLISHED-TTL:PT1H
BEGIN:VTIMEZONE
TZID:America/Chicago
BEGIN:DAYLIGHT
TZOFFSETFROM:-0600
TZOFFSETTO:-0500
TZNAME:CDT
DTSTART:20250309T080000
END:DAYLIGHT
BEGIN:STANDARD
TZOFFSETFROM:-0500
TZOFFSETTO:-0600
TZNAME:CST
DTSTART:20251102T070000
END:STANDARD
BEGIN:DAYLIGHT
TZOFFSETFROM:-0600
TZOFFSETTO:-0500
TZNAME:CDT
DTSTART:20260308T080000
END:DAYLIGHT
BEGIN:STANDARD
TZOFFSETFROM:-0500
TZOFFSETTO:-0600
TZNAME:CST
DTSTART:20261101T070000
END:STANDARD
BEGIN:DAYLIGHT
TZOFFSETFROM:-0600
TZOFFSETTO:-0500
TZNAME:CDT
DTSTART:20270314T080000
END:DAYLIGHT
BEGIN:STANDARD
TZOFFSETFROM:-0500
TZOFFSETTO:-0600
TZNAME:CST
DTSTART:20271107T070000
END:STANDARD
END:VTIMEZONE
BEGIN:VEVENT
DTSTART;TZID=America/Chicago:20260423T123000
DTEND;TZID=America/Chicago:20260423T133000
DTSTAMP:20260421T043406
CREATED:20260420T184926Z
LAST-MODIFIED:20260420T184926Z
UID:10005516-1776947400-1776951000@cancersupportcenter.org
SUMMARY:Men's Networking Group (VIRTUAL)
DESCRIPTION:Develop a sense of community by networking with other men who have been diagnosed with cancer. This group is open to men with any type or stage of cancer (in treatment or post-treatment). Click this link to register:\nhttps://us02web.zoom.us/meeting/register/tZwpceCgpj4uZzrF4k_xeRK38QHoeFNpEg 
URL:https://cancersupportcenter.org/event/mens-cancer-networking-group/2026-04-23/
LOCATION:Virtual
CATEGORIES:Education & Networking,Virtual
END:VEVENT
END:VCALENDAR