BEGIN:VCALENDAR
VERSION:2.0
PRODID:-//Cancer Support Center - ECPv6.15.20//NONSGML v1.0//EN
CALSCALE:GREGORIAN
METHOD:PUBLISH
X-WR-CALNAME:Cancer Support Center
X-ORIGINAL-URL:https://cancersupportcenter.org
X-WR-CALDESC:Events for Cancer Support Center
REFRESH-INTERVAL;VALUE=DURATION:PT1H
X-Robots-Tag:noindex
X-PUBLISHED-TTL:PT1H
BEGIN:VTIMEZONE
TZID:America/Chicago
BEGIN:DAYLIGHT
TZOFFSETFROM:-0600
TZOFFSETTO:-0500
TZNAME:CDT
DTSTART:20250309T080000
END:DAYLIGHT
BEGIN:STANDARD
TZOFFSETFROM:-0500
TZOFFSETTO:-0600
TZNAME:CST
DTSTART:20251102T070000
END:STANDARD
BEGIN:DAYLIGHT
TZOFFSETFROM:-0600
TZOFFSETTO:-0500
TZNAME:CDT
DTSTART:20260308T080000
END:DAYLIGHT
BEGIN:STANDARD
TZOFFSETFROM:-0500
TZOFFSETTO:-0600
TZNAME:CST
DTSTART:20261101T070000
END:STANDARD
BEGIN:DAYLIGHT
TZOFFSETFROM:-0600
TZOFFSETTO:-0500
TZNAME:CDT
DTSTART:20270314T080000
END:DAYLIGHT
BEGIN:STANDARD
TZOFFSETFROM:-0500
TZOFFSETTO:-0600
TZNAME:CST
DTSTART:20271107T070000
END:STANDARD
END:VTIMEZONE
BEGIN:VEVENT
DTSTART;TZID=America/Chicago:20260505T160000
DTEND;TZID=America/Chicago:20260505T170000
DTSTAMP:20260421T070129
CREATED:20260318T183148Z
LAST-MODIFIED:20260417T010923Z
UID:10000181-1777996800-1778000400@cancersupportcenter.org
SUMMARY:Healing Skin\, Healing Spirit (Homewood)
DESCRIPTION:This interactive skincare class educates and empowers participants undergoing treatment or in survivorship. Participants learn how to safely care for their skin\, manage treatment-related changes\, and embrace self-care as part of their healing journey. \nPresented by: Micki V.
URL:https://cancersupportcenter.org/event/healing-skin-healing-spirit-homewood/
LOCATION:CSC – Homewood\, 2028 Elm Road\, Homewood\, IL\, 60430\, United States
CATEGORIES:Education & Networking,Homewood
ATTACH;FMTTYPE=image/png:https://cancersupportcenter.org/wp-content/uploads/2026/03/Screenshot-2026-04-16-at-8.07.29-PM.png
END:VEVENT
BEGIN:VEVENT
DTSTART;TZID=America/Chicago:20260520T160000
DTEND;TZID=America/Chicago:20260520T170000
DTSTAMP:20260421T070129
CREATED:20260318T183355Z
LAST-MODIFIED:20260417T011941Z
UID:10000243-1779292800-1779296400@cancersupportcenter.org
SUMMARY:Coping with “Scanxiety” (Virtual)
DESCRIPTION:Scans are an important part of the treatment process but often cause a lot of worry for the patient and their loved ones. This is a very common reaction. Join us as we talk through various ways to cope while awaiting the results of an upcoming scan. \nPresented by Jason Kieffer\, LCPC. \nCLICK TO REGISTER:  https://us02web.zoom.us/meeting/register/LGvm0ELNS2WuoUZpPIvYqA
URL:https://cancersupportcenter.org/event/coping-with-scanxiety/
LOCATION:Virtual
CATEGORIES:Education & Networking,Virtual
ATTACH;FMTTYPE=image/png:https://cancersupportcenter.org/wp-content/uploads/2026/03/Screenshot-2026-04-16-at-8.13.22-PM.png
END:VEVENT
END:VCALENDAR