BEGIN:VCALENDAR
VERSION:2.0
PRODID:-//Cancer Support Center - ECPv6.15.20//NONSGML v1.0//EN
CALSCALE:GREGORIAN
METHOD:PUBLISH
X-ORIGINAL-URL:https://cancersupportcenter.org
X-WR-CALDESC:Events for Cancer Support Center
REFRESH-INTERVAL;VALUE=DURATION:PT1H
X-Robots-Tag:noindex
X-PUBLISHED-TTL:PT1H
BEGIN:VTIMEZONE
TZID:America/Chicago
BEGIN:DAYLIGHT
TZOFFSETFROM:-0600
TZOFFSETTO:-0500
TZNAME:CDT
DTSTART:20250309T080000
END:DAYLIGHT
BEGIN:STANDARD
TZOFFSETFROM:-0500
TZOFFSETTO:-0600
TZNAME:CST
DTSTART:20251102T070000
END:STANDARD
BEGIN:DAYLIGHT
TZOFFSETFROM:-0600
TZOFFSETTO:-0500
TZNAME:CDT
DTSTART:20260308T080000
END:DAYLIGHT
BEGIN:STANDARD
TZOFFSETFROM:-0500
TZOFFSETTO:-0600
TZNAME:CST
DTSTART:20261101T070000
END:STANDARD
BEGIN:DAYLIGHT
TZOFFSETFROM:-0600
TZOFFSETTO:-0500
TZNAME:CDT
DTSTART:20270314T080000
END:DAYLIGHT
BEGIN:STANDARD
TZOFFSETFROM:-0500
TZOFFSETTO:-0600
TZNAME:CST
DTSTART:20271107T070000
END:STANDARD
END:VTIMEZONE
BEGIN:VEVENT
DTSTART;TZID=America/Chicago:20260513T123000
DTEND;TZID=America/Chicago:20260513T140000
DTSTAMP:20260421T103832
CREATED:20260318T183252Z
LAST-MODIFIED:20260417T021332Z
UID:10000211-1778675400-1778680800@cancersupportcenter.org
SUMMARY:Smoothie Clinic: Increase Your Energy & Reduce Inflammation (Mokena)
DESCRIPTION:Smoothies and Juicing are considered to be a fabulous beverage\, why? Because they are both nutrient-rich\, easy to digest\, and can help increase your intake of fruits and vegetables\, fiber\, and essential vitamins and minerals. Chris will demonstrate both strategies\, reviewing which one is healthier and what are the easy shortcuts to take when making both. \nPresented by Chris Rosandich\, MS\, Nutrition Educator.
URL:https://cancersupportcenter.org/event/smoothie-clinic-increase-your-energy-reduce-inflammation-mokena/
LOCATION:CSC – Mokena\, 19645 S. LaGrange Road\, Mokena\, IL\, 60448\, United States
CATEGORIES:Mokena,Nutrition
ATTACH;FMTTYPE=image/png:https://cancersupportcenter.org/wp-content/uploads/2026/03/Screenshot-2026-04-16-at-8.55.23-PM.png
END:VEVENT
END:VCALENDAR