BEGIN:VCALENDAR
VERSION:2.0
PRODID:-//Cancer Support Center - ECPv6.15.20//NONSGML v1.0//EN
CALSCALE:GREGORIAN
METHOD:PUBLISH
X-WR-CALNAME:Cancer Support Center
X-ORIGINAL-URL:https://cancersupportcenter.org
X-WR-CALDESC:Events for Cancer Support Center
REFRESH-INTERVAL;VALUE=DURATION:PT1H
X-Robots-Tag:noindex
X-PUBLISHED-TTL:PT1H
BEGIN:VTIMEZONE
TZID:America/Chicago
BEGIN:DAYLIGHT
TZOFFSETFROM:-0600
TZOFFSETTO:-0500
TZNAME:CDT
DTSTART:20250309T080000
END:DAYLIGHT
BEGIN:STANDARD
TZOFFSETFROM:-0500
TZOFFSETTO:-0600
TZNAME:CST
DTSTART:20251102T070000
END:STANDARD
BEGIN:DAYLIGHT
TZOFFSETFROM:-0600
TZOFFSETTO:-0500
TZNAME:CDT
DTSTART:20260308T080000
END:DAYLIGHT
BEGIN:STANDARD
TZOFFSETFROM:-0500
TZOFFSETTO:-0600
TZNAME:CST
DTSTART:20261101T070000
END:STANDARD
BEGIN:DAYLIGHT
TZOFFSETFROM:-0600
TZOFFSETTO:-0500
TZNAME:CDT
DTSTART:20270314T080000
END:DAYLIGHT
BEGIN:STANDARD
TZOFFSETFROM:-0500
TZOFFSETTO:-0600
TZNAME:CST
DTSTART:20271107T070000
END:STANDARD
END:VTIMEZONE
BEGIN:VEVENT
DTSTART;TZID=America/Chicago:20260504T130000
DTEND;TZID=America/Chicago:20260504T133000
DTSTAMP:20260425T084201
CREATED:20260424T061645Z
LAST-MODIFIED:20260424T061645Z
UID:10007646-1777899600-1777901400@cancersupportcenter.org
SUMMARY:Monday Meditation (VIRTUAL)
DESCRIPTION:Kick-off your week right with a guided meditation with Cecily Hunt on Zoom. \nClick this link to register:\nhttps://us02web.zoom.us/meeting/register/u5ModOmvqzovaYhfvxj–dzNI3ByDYPzdQ \nFacilitated by: Cecily Hunt
URL:https://cancersupportcenter.org/event/monday-meditation-virtual-13/2026-05-04/
LOCATION:Virtual
CATEGORIES:Counseling & Stress Management,Virtual
END:VEVENT
BEGIN:VEVENT
DTSTART;TZID=America/Chicago:20260507T120000
DTEND;TZID=America/Chicago:20260507T130000
DTSTAMP:20260425T084201
CREATED:20260424T061950Z
LAST-MODIFIED:20260424T061950Z
UID:10007907-1778155200-1778158800@cancersupportcenter.org
SUMMARY:Soundbath (Homewood)
DESCRIPTION:Our physical bodies are composed of atoms vibrating at various rates; illness and the stress it can create lower that rate. A sound meditation\, in which you bathe your body in the healing vibrations of a variety of ancient instruments\, can raise your consciousness to create a space of peace and well-being\, of harmony and balance\, in which you open to profound therapeutic benefits. Join us for this healing reconnection. Please bring a pillow\, blanket and wear loose clothing. This program will be offered live in Homewood. Class is limited to 7 participants and registration is required. \nFor more information please call 708-798-9171
URL:https://cancersupportcenter.org/event/soundbath-homewood/2026-05-07/
LOCATION:CSC – Homewood\, 2028 Elm Road\, Homewood\, IL\, 60430\, United States
CATEGORIES:Counseling & Stress Management,Homewood
END:VEVENT
END:VCALENDAR