BEGIN:VCALENDAR
VERSION:2.0
PRODID:-//Cancer Support Center - ECPv6.15.20//NONSGML v1.0//EN
CALSCALE:GREGORIAN
METHOD:PUBLISH
X-ORIGINAL-URL:https://cancersupportcenter.org
X-WR-CALDESC:Events for Cancer Support Center
REFRESH-INTERVAL;VALUE=DURATION:PT1H
X-Robots-Tag:noindex
X-PUBLISHED-TTL:PT1H
BEGIN:VTIMEZONE
TZID:America/Chicago
BEGIN:DAYLIGHT
TZOFFSETFROM:-0600
TZOFFSETTO:-0500
TZNAME:CDT
DTSTART:20250309T080000
END:DAYLIGHT
BEGIN:STANDARD
TZOFFSETFROM:-0500
TZOFFSETTO:-0600
TZNAME:CST
DTSTART:20251102T070000
END:STANDARD
BEGIN:DAYLIGHT
TZOFFSETFROM:-0600
TZOFFSETTO:-0500
TZNAME:CDT
DTSTART:20260308T080000
END:DAYLIGHT
BEGIN:STANDARD
TZOFFSETFROM:-0500
TZOFFSETTO:-0600
TZNAME:CST
DTSTART:20261101T070000
END:STANDARD
BEGIN:DAYLIGHT
TZOFFSETFROM:-0600
TZOFFSETTO:-0500
TZNAME:CDT
DTSTART:20270314T080000
END:DAYLIGHT
BEGIN:STANDARD
TZOFFSETFROM:-0500
TZOFFSETTO:-0600
TZNAME:CST
DTSTART:20271107T070000
END:STANDARD
END:VTIMEZONE
BEGIN:VEVENT
DTSTART;TZID=America/Chicago:20260427T090000
DTEND;TZID=America/Chicago:20260427T100000
DTSTAMP:20260421T103149
CREATED:20260318T182716Z
LAST-MODIFIED:20260402T184758Z
UID:10000311-1777280400-1777284000@cancersupportcenter.org
SUMMARY:Zumba Toning® (HYBRID - Mokena Or Virtual)
DESCRIPTION:  \nZumba Toning® offers a new way to tone your muscles in a fun\, easy-to-follow Latin-inspired dance cardio class. The workout combines all the music and fun of Zumba with body sculpting exercises that use lightweight sticks\, a bit like Maracas. This class is designed for beginner fitness levels or the older active adult. Be sure to wear comfortable workout clothing and bring water. Registration is required for this class as weighted sticks are limited. Call 708-478-3529 to register in person or register click here.  \n 
URL:https://cancersupportcenter.org/event/zumba-toning-hybrid-mokena-or-virtual-3/2026-04-27/
LOCATION:CSC – Mokena\, 19645 S. LaGrange Road\, Mokena\, IL\, 60448\, United States
CATEGORIES:Fitness & Physical Wellness
END:VEVENT
BEGIN:VEVENT
DTSTART;TZID=America/Chicago:20260427T110000
DTEND;TZID=America/Chicago:20260427T120000
DTSTAMP:20260421T103149
CREATED:20260318T182720Z
LAST-MODIFIED:20260402T185915Z
UID:10000831-1777287600-1777291200@cancersupportcenter.org
SUMMARY:Zumba Gold (HOMEWOOD)
DESCRIPTION:  \nAs part of our efforts to incrementally start offering live (in-person) programs we are excited to bring back Zumba Gold in Homewood with Denise. We ask that you stay home if you are not feeling well. Registration is required and space is limited. \nCall 708-798-9171 to register for the in person class at Homewood \n 
URL:https://cancersupportcenter.org/event/zumba-gold-homewood-5/2026-04-27/
LOCATION:CSC – Homewood\, 2028 Elm Road\, Homewood\, IL\, 60430\, United States
CATEGORIES:Fitness & Physical Wellness
END:VEVENT
BEGIN:VEVENT
DTSTART;TZID=America/Chicago:20260427T120000
DTEND;TZID=America/Chicago:20260427T130000
DTSTAMP:20260421T103149
CREATED:20260318T182722Z
LAST-MODIFIED:20260407T192959Z
UID:10004338-1777291200-1777294800@cancersupportcenter.org
SUMMARY:Knit and Crochet (Homewood)
DESCRIPTION:All are welcome to come join this group to work on current knit\, crochet\, and other projects\, as well as beginners who are looking to learn the basics. Yarn and basic tools provided. Please Call 708-798-9171 to register
URL:https://cancersupportcenter.org/event/knit-and-crochet-homewood-3/2026-04-27/
LOCATION:CSC – Homewood\, 2028 Elm Road\, Homewood\, IL\, 60430\, United States
CATEGORIES:Counseling & Stress Management
END:VEVENT
BEGIN:VEVENT
DTSTART;TZID=America/Chicago:20260427T120000
DTEND;TZID=America/Chicago:20260427T130000
DTSTAMP:20260421T103149
CREATED:20260318T182725Z
LAST-MODIFIED:20260407T193104Z
UID:10004599-1777291200-1777294800@cancersupportcenter.org
SUMMARY:Chair Yoga with Cecily (VIRTUAL)
DESCRIPTION:Yoga is a body-mind-breath practice that promotes healing and well-being\, and improves strength\, flexibility and balance in your body and in your life. Join us to participate in this ancient tradition done in the comfort and safety of a chair in its new time slot on Mondays at 12 p.m.\,starting on October 18. Participants have said\, “Yoga has helped deepen awareness of body\, mind\, and spirit\,” and that this program has helped them find balance in peace in life. Meditation will follow in its usual timeslot at 1 p.m.; you do not have to attend yoga to participate in meditation. Click this link to register: https://us02web.zoom.us/meeting/register/tZYucu-sqjMvG90et_c8AHFEOJKhuXjohuZw 
URL:https://cancersupportcenter.org/event/chair-yoga-with-cecily-virtual-3/2026-04-27/
LOCATION:Virtual
CATEGORIES:Fitness & Physical Wellness
END:VEVENT
BEGIN:VEVENT
DTSTART;TZID=America/Chicago:20260427T130000
DTEND;TZID=America/Chicago:20260427T133000
DTSTAMP:20260421T103149
CREATED:20260318T182728Z
LAST-MODIFIED:20260402T191051Z
UID:10001091-1777294800-1777296600@cancersupportcenter.org
SUMMARY:Monday Meditation (VIRTUAL)
DESCRIPTION:Kick-off your week right with a guided meditation with Cecily Hunt on Zoom. Click this link to register\nhttps://us02web.zoom.us/meeting/register/u5ModOmvqzovaYhfvxj–dzNI3ByDYPzdQ
URL:https://cancersupportcenter.org/event/monday-meditation-virtual-3/2026-04-27/
LOCATION:Virtual
CATEGORIES:Counseling & Stress Management
END:VEVENT
BEGIN:VEVENT
DTSTART;TZID=America/Chicago:20260427T133000
DTEND;TZID=America/Chicago:20260427T150000
DTSTAMP:20260421T103149
CREATED:20260318T183047Z
LAST-MODIFIED:20260407T160953Z
UID:10000155-1777296600-1777302000@cancersupportcenter.org
SUMMARY:Art Therapy – Working Big! - creating large format art  (Homewood)
DESCRIPTION:Join us for fun and meaningful programs to help you explore different forms of expression and creativity. No art experience is necessary. This program is being offered out of our Homewood office. To attend in-person call 708-798-9171 or email Kkopale@cancersupportcenter.org \n 
URL:https://cancersupportcenter.org/event/art-therapy-working-big-creating-large-format-art-homewood-4/
LOCATION:CSC – Homewood\, 2028 Elm Road\, Homewood\, IL\, 60430\, United States
CATEGORIES:Counseling & Stress Management
END:VEVENT
BEGIN:VEVENT
DTSTART;TZID=America/Chicago:20260428T110000
DTEND;TZID=America/Chicago:20260428T120000
DTSTAMP:20260421T103149
CREATED:20260318T182733Z
LAST-MODIFIED:20260402T191533Z
UID:10001612-1777374000-1777377600@cancersupportcenter.org
SUMMARY:Gentle Floor Yoga with Nidra (HYBRID)
DESCRIPTION:This class begins with a 40-45 minute gentle yoga practice that incorporates simple flowing sequences that focus on alignment\, strength\, balance\, and flexibility. We will follow with Nidra; a guided form of meditation that is intended to induce total physical\, mental\, and emotional relaxation. Call (708) 478-3529 to register for in-person attendance. To register virtually\,  click here
URL:https://cancersupportcenter.org/event/gentle-floor-yoga-with-nidra-hybrid-mokena-virtual-3/2026-04-28/
LOCATION:CSC – Mokena\, 19645 S. LaGrange Road\, Mokena\, IL\, 60448\, United States
CATEGORIES:Fitness & Physical Wellness
END:VEVENT
BEGIN:VEVENT
DTSTART;TZID=America/Chicago:20260428T120000
DTEND;TZID=America/Chicago:20260428T130000
DTSTAMP:20260421T103149
CREATED:20260420T195642Z
LAST-MODIFIED:20260420T195642Z
UID:10005898-1777377600-1777381200@cancersupportcenter.org
SUMMARY:Cancer Patient Support & Networking Group (Homewood)
DESCRIPTION:The last Tuesday of every month\, 12 to 1 p.m. Being diagnosed with cancer can be a very isolating experience. Groups are a place where patients can receive support from others who truly get it and learn more about resources and coping skills by networking with others. Unfortunately\, there isn’t a group for every type of cancer\, so we want to provide a space for all cancer types. \nThis networking group is also offered at our Mokena location on the second Monday of each month.
URL:https://cancersupportcenter.org/event/cancer-patient-support-networking-group-homewood/2026-04-28/
LOCATION:CSC – Homewood\, 2028 Elm Road\, Homewood\, IL\, 60430\, United States
CATEGORIES:Education & Networking,Homewood
END:VEVENT
BEGIN:VEVENT
DTSTART;TZID=America/Chicago:20260428T123000
DTEND;TZID=America/Chicago:20260428T134500
DTSTAMP:20260421T103149
CREATED:20260318T182843Z
LAST-MODIFIED:20260407T144924Z
UID:10004226-1777379400-1777383900@cancersupportcenter.org
SUMMARY:Unlock a Healthier You\, 2-week program (Homewood)
DESCRIPTION:  \nThis 2-week program will help you unlock a healthier you. We will discuss advanced nutrition and lifestyle strategies that can help you to feel better\, have more energy\, and feel less achy. Here are a few of the topics we will cover: \n  \n\nIntermittent fasting & having a healthy gut\n\n  \n\nProtein and collagen: why they are so important\n\n  \n\nTop 10 healthy snacks & sweet treats
URL:https://cancersupportcenter.org/event/unlock-a-healthier-you-2-week-program-homewood/2026-04-28/
LOCATION:CSC – Homewood\, 2028 Elm Road\, Homewood\, IL\, 60430\, United States
CATEGORIES:Nutrition
END:VEVENT
BEGIN:VEVENT
DTSTART;TZID=America/Chicago:20260428T140000
DTEND;TZID=America/Chicago:20260428T150000
DTSTAMP:20260421T103149
CREATED:20260318T182737Z
LAST-MODIFIED:20260407T191922Z
UID:10002192-1777384800-1777388400@cancersupportcenter.org
SUMMARY:Moves That Matter (Homewood)
DESCRIPTION:This class works on releasing tension\, increasing flexibility\, improving posture\, coordination\, injury prevention\, pain management\, and joint and gross stability. Each person works at their own pace and in their comfort zone. To attend this class in person please call 708-798-9171.
URL:https://cancersupportcenter.org/event/moves-that-matter-homewood-3/2026-04-28/
LOCATION:CSC – Homewood\, 2028 Elm Road\, Homewood\, IL\, 60430\, United States
CATEGORIES:Fitness & Physical Wellness
END:VEVENT
BEGIN:VEVENT
DTSTART;TZID=America/Chicago:20260428T140000
DTEND;TZID=America/Chicago:20260428T153000
DTSTAMP:20260421T103149
CREATED:20260318T183057Z
LAST-MODIFIED:20260407T160815Z
UID:10000159-1777384800-1777390200@cancersupportcenter.org
SUMMARY:Art Therapy - Working Big! - creating large format art  (Mokena)
DESCRIPTION:  \nJoin us for fun and meaningful programs to help you explore different forms of expression and creativity. No art experience is necessary. This program is being offered out of our Mokena office. To attend in-person call (708) 478-3529 or email Kkopale@cancersupportcenter.org \n 
URL:https://cancersupportcenter.org/event/art-therapy-working-big-creating-large-format-art-mokena-4/
LOCATION:CSC – Mokena\, 19645 S. LaGrange Road\, Mokena\, IL\, 60448\, United States
CATEGORIES:Counseling & Stress Management
END:VEVENT
BEGIN:VEVENT
DTSTART;TZID=America/Chicago:20260428T163000
DTEND;TZID=America/Chicago:20260428T173000
DTSTAMP:20260421T103149
CREATED:20260318T183101Z
LAST-MODIFIED:20260407T160722Z
UID:10000161-1777393800-1777397400@cancersupportcenter.org
SUMMARY:Monthly Tween Art Meetup (Mokena)
DESCRIPTION:Explore new art techniques and creative themes each month with guidance from an Art Therapist. This group offers a supportive space for self‑expression\, peer connection\, and gentle emotional processing. Open to kids ages 8–15 who have been impacted by cancer. Please call either location or email mbonke@cancersupportcenter.org to register.
URL:https://cancersupportcenter.org/event/monthly-tween-art-meetup-mokena-2/
LOCATION:CSC – Mokena\, 19645 S. LaGrange Road\, Mokena\, IL\, 60448\, United States
CATEGORIES:Child/Family,Mokena
END:VEVENT
BEGIN:VEVENT
DTSTART;TZID=America/Chicago:20260429T090000
DTEND;TZID=America/Chicago:20260429T100000
DTSTAMP:20260421T103149
CREATED:20260318T182753Z
LAST-MODIFIED:20260402T192823Z
UID:10002452-1777453200-1777456800@cancersupportcenter.org
SUMMARY:Get Moving\, Get Fit (Mokena)
DESCRIPTION:This fun group fitness class will focus on gentle conditioning\, flexibility and balance by moving to upbeat music.  Workouts will focus on the whole body\, and all levels of fitness are welcome. The first 45 minutes will consist of light exercise followed by 15 minutes of rest/hydration. Please call 708.478.3529 to reserve your spot. \nMeeting Registration – Zoom
URL:https://cancersupportcenter.org/event/get-moving-get-fit-mokena-3/2026-04-29/
LOCATION:CSC – Mokena\, 19645 S. LaGrange Road\, Mokena\, IL\, 60448\, United States
CATEGORIES:Fitness & Physical Wellness
END:VEVENT
BEGIN:VEVENT
DTSTART;TZID=America/Chicago:20260429T123000
DTEND;TZID=America/Chicago:20260429T140000
DTSTAMP:20260421T103149
CREATED:20260318T182803Z
LAST-MODIFIED:20260407T191405Z
UID:10002832-1777465800-1777471200@cancersupportcenter.org
SUMMARY:Open Art Studio (Homewood)
DESCRIPTION:Open Studio is a time to come together and get creative! Participants can utilize this time to connect with others and work on any art they choose. This group is now being held in-person only for the spring newsletter. If you would like to attend in person\, please call 708-798-9171 for more information.
URL:https://cancersupportcenter.org/event/open-art-studio-homewood-4/2026-04-29/
LOCATION:CSC – Homewood\, 2028 Elm Road\, Homewood\, IL\, 60430\, United States
CATEGORIES:Counseling & Stress Management
END:VEVENT
BEGIN:VEVENT
DTSTART;TZID=America/Chicago:20260429T140000
DTEND;TZID=America/Chicago:20260429T150000
DTSTAMP:20260421T103149
CREATED:20260318T182800Z
LAST-MODIFIED:20260407T191251Z
UID:10003092-1777471200-1777474800@cancersupportcenter.org
SUMMARY:Knit & Crochet Group
DESCRIPTION:
URL:https://cancersupportcenter.org/event/knit-crochet-group-4/2026-04-29/
LOCATION:CSC – Mokena\, 19645 S. LaGrange Road\, Mokena\, IL\, 60448\, United States
CATEGORIES:Counseling & Stress Management
END:VEVENT
BEGIN:VEVENT
DTSTART;TZID=America/Chicago:20260429T143000
DTEND;TZID=America/Chicago:20260429T153000
DTSTAMP:20260421T103149
CREATED:20260318T182804Z
LAST-MODIFIED:20260407T191154Z
UID:10003352-1777473000-1777476600@cancersupportcenter.org
SUMMARY:Yoga for Healthy Movement (Homewood)
DESCRIPTION:Yoga for Healthy Movement is designed to reduce stress and address the physical side-effects of cancer. Classes consist of breath work\, gentle stretches\, seated and standing poses using the chair or wall for assistance\, relaxation\, and meditation. Call 708-798-9171 to register for this in-person program. \n 
URL:https://cancersupportcenter.org/event/yoga-for-healthy-movement-homewood-5/2026-04-29/
LOCATION:CSC – Homewood\, 2028 Elm Road\, Homewood\, IL\, 60430\, United States
CATEGORIES:Fitness & Physical Wellness
END:VEVENT
BEGIN:VEVENT
DTSTART;TZID=America/Chicago:20260430T000000
DTEND;TZID=America/Chicago:20260430T235959
DTSTAMP:20260421T103149
CREATED:20260318T182823Z
LAST-MODIFIED:20260407T190934Z
UID:10003730-1777507200-1777593599@cancersupportcenter.org
SUMMARY:Art Journaling (VIRTUAL)
DESCRIPTION:In this group\, participants will be invited to create thoughtful and reflective art in a journal as a unique way to process their cancer experience. All individuals affected by cancer are welcome. Registration is required. Email Kelly at kfriel@cancersupportcenter.org to receive your art journaling prompt each Thursday in your inbox.
URL:https://cancersupportcenter.org/event/art-journaling-virtual-4/2026-04-30/
LOCATION:Virtual
CATEGORIES:Counseling & Stress Management
END:VEVENT
BEGIN:VEVENT
DTSTART;TZID=America/Chicago:20260430T123000
DTEND;TZID=America/Chicago:20260430T133000
DTSTAMP:20260421T103149
CREATED:20260420T184926Z
LAST-MODIFIED:20260420T184926Z
UID:10005517-1777552200-1777555800@cancersupportcenter.org
SUMMARY:Men's Networking Group (VIRTUAL)
DESCRIPTION:Develop a sense of community by networking with other men who have been diagnosed with cancer. This group is open to men with any type or stage of cancer (in treatment or post-treatment). Click this link to register:\nhttps://us02web.zoom.us/meeting/register/tZwpceCgpj4uZzrF4k_xeRK38QHoeFNpEg 
URL:https://cancersupportcenter.org/event/mens-cancer-networking-group/2026-04-30/
LOCATION:Virtual
CATEGORIES:Education & Networking,Virtual
END:VEVENT
BEGIN:VEVENT
DTSTART;TZID=America/Chicago:20260430T160000
DTEND;TZID=America/Chicago:20260430T170000
DTSTAMP:20260421T103149
CREATED:20260318T182926Z
LAST-MODIFIED:20260407T150130Z
UID:10004279-1777564800-1777568400@cancersupportcenter.org
SUMMARY:Adjusting to Life After Loss
DESCRIPTION:  \nCoping with the loss of a loved one can be challenging\, particularly when individual factors and unrealistic expectations intensify the grieving process. Additionally\, support from others often diminishes over time. This three‑week workshop addresses key aspects of grief through a different focus each week. Week one explores common myths and expectations surrounding grief\, week two examines factors that influence the grieving process\, and week three focuses on building and maintaining personal support. Participants may attend all three sessions or select the topics most relevant to them. \n  \nhttps://us02web.zoom.us/meeting/register/2y0lo1mEQF2dN8LbG8Jk9g
URL:https://cancersupportcenter.org/event/adjusting-to-life-after-loss-2/2026-04-30/
LOCATION:Virtual
CATEGORIES:Education & Networking
END:VEVENT
BEGIN:VEVENT
DTSTART;TZID=America/Chicago:20260430T160000
DTEND;TZID=America/Chicago:20260430T170000
DTSTAMP:20260421T103149
CREATED:20260318T183120Z
LAST-MODIFIED:20260407T160624Z
UID:10000168-1777564800-1777568400@cancersupportcenter.org
SUMMARY:Multiple Myeloma Cancer Networking Group (VIRTUAL)
DESCRIPTION:For patients with any kind of blood cancer diagnosis\, regardless of stage. Networking groups provide a space for patients to talk with other patients facing a similar diagnosis. Potential benefits include receiving support from other patients and feeling a sense of community. Learning from other patients can also provide an opportunity to find new resources and learn new coping skills. \nClick here to register on Zoom: https://us02web.zoom.us/meeting/register/tJQkfuCsqj8iNR8oFfq3gU2UiIh-h9aWFw
URL:https://cancersupportcenter.org/event/multiple-myeloma-cancer-networking-group-virtual-2/
LOCATION:Virtual
CATEGORIES:Education & Networking,Virtual
END:VEVENT
BEGIN:VEVENT
DTSTART;TZID=America/Chicago:20260430T180000
DTEND;TZID=America/Chicago:20260430T193000
DTSTAMP:20260421T103149
CREATED:20260318T183124Z
LAST-MODIFIED:20260407T160436Z
UID:10000170-1777572000-1777577400@cancersupportcenter.org
SUMMARY:Care for the Caregiver: The Rest Workshop (Mokena)
DESCRIPTION:Rest is part of caregiving. Join us as we explore practical-self-care tools that support mental\, physical\, and emotional wellbeing. Participants will learn realistic\, sustainable strategies for implementing rest in ways that can be started the very same week. You’llhave the opportunity to exchange ideas with other caregivers and walk away with a personalized rest plan that fits your life without interfering with your other responsibilities. Presented by Alexis Hudson\, CIT.
URL:https://cancersupportcenter.org/event/care-for-the-caregiver-the-rest-workshop-mokena/
LOCATION:CSC – Mokena\, 19645 S. LaGrange Road\, Mokena\, IL\, 60448\, United States
CATEGORIES:Education & Networking,Mokena
END:VEVENT
END:VCALENDAR